BEGIN:VCALENDAR
VERSION:2.0
PRODID:-//wp-events-plugin.com//5.99912//EN
TZID:Europe/Paris
X-WR-TIMEZONE:Europe/Paris
BEGIN:VEVENT
UID:0-1378@murs-erigne.fr
DTSTART;TZID=Europe/Paris:20260606T100000
DTEND;TZID=Europe/Paris:20260606T120000
DTSTAMP:20260217T131127Z
URL:https://www.murs-erigne.fr/evenements/a-la-recherche-de-la-flore-rare/
SUMMARY:À la recherche de la flore rare
DESCRIPTION:\nLe site des Varennes accueille des espèces de plantes extrê
 mement rares dans la région\, voire en France ! Partez\, avec un naturali
 ste du Conservatoire\, à la recherche de ces espèces ! Entre découverte
  du site et jeu de piste\, vos yeux seront mis à contribution pour garant
 ir la préservation de ces plantes.\n\n\n\nDans le cadre des&nbsp\;Rendez-
 vous nature 2026 et en partenariat avec le Conservatoire d’Espaces Natur
 els (CEN) des Pays-de-la-Loire.\n\n\n\nAnimations mises en place et co-fin
 ancées par le Département\, dans le cadre de ses actions de préservatio
 n et valorisation des milieux naturels du Maine-et-Loire.\n\n\n\n\nGratuit
  - Réservation obligatoire auprès du CEN des Pays-de-la-Loire à a.cocha
 rd@cenpaysdelaloire.fr ou au 07 68 67 03 07\n\n\n\nRDV : au parking du sta
 de des Varennes\n\n\n\nNombre de places disponibles : 20 personnes maximum
 \n\n\n\nDistance parcourue : 1 km\n\n\n\nDurée : 2 h\n\n\n\n\n\n\n\n
ATTACH;FMTTYPE=image/jpeg:https://www.murs-erigne.fr/app/uploads/2026/02/D
 EP49_RDV_nature_2026_agenda_generique.jpg
CATEGORIES:Rendez-vous nature en Anjou
END:VEVENT
BEGIN:VTIMEZONE
TZID:Europe/Paris
X-LIC-LOCATION:Europe/Paris
BEGIN:DAYLIGHT
DTSTART:20260329T030000
TZOFFSETFROM:+0100
TZOFFSETTO:+0200
TZNAME:CEST
END:DAYLIGHT
END:VTIMEZONE
END:VCALENDAR