BEGIN:VCALENDAR
VERSION:2.0
PRODID:-//wp-events-plugin.com//5.99912//EN
TZID:Europe/Paris
X-WR-TIMEZONE:Europe/Paris
BEGIN:VEVENT
UID:0-1389@murs-erigne.fr
DTSTART:20260429T203000Z
DTEND:20260429T203000Z
DTSTAMP:20260225T123249Z
URL:https://www.murs-erigne.fr/evenements/ceux-qui-comptent/
SUMMARY:Ceux qui comptent
DESCRIPTION:\nDe Jean-Baptiste Leonetti | Par Jean-Baptiste Leonetti\n\
 n\n\nAvec&nbsp\;Sandrine Kiberlain\,&nbsp\;Pierre Lottin\,&nbsp\;Louise La
 beque\n\n\n\nSynopsis\n\n\n\nRose et Jean n’ont rien en commun. Rose est
  une force de la nature qui affronte tous ses problèmes avec une désarma
 nte joie de vivre. Elle campe avec ses 3 enfants à l’étage de l’hôt
 el de famille qui ne leur appartient plus\, et non\, ils ne sont pas pauvr
 es\, ils sont fauchés. C’est temporaire. Jean est un homme solitaire et
  taciturne qui a fini par enfouir son grand cœur sous des couches de pude
 ur et de résignation. Quand il arrive malgré lui dans cette famille hors
  norme\, il va très vite devenir indispensable. Qu’attendaient-ils avan
 t de se rencontrer ? Sans doute plus rien. Et pourtant\, ensemble\, tout v
 a devenir possible.\n\n\n\n\nhttps://www.youtube.com/watch?v=aVSM3_tlhVg\n
 \n\n\n\nTarifs\n\n\n\nAdulte : plein 6 €\, réduit 5 € (érimûrois\
 , adhérents AFR\, chercheurs d’emploi\, étudiants)Enfant -14 ans : ple
 in 5 €\, réduit 4 € (érimûrois\, adhérents AFR)Groupe à partir de
  10 pers. (écoles\, collèges\, maisons de retraite…)&nbsp\;: 3.60 €\
 n\n\n\nE-Pass Jeunes accepté\n\n\n\n\nCinéma en partenariat avec l'assoc
 iation Familles Rurales\n\n
ATTACH;FMTTYPE=image/jpeg:https://www.murs-erigne.fr/app/uploads/2026/02/C
 OM_2026-04-29_IMA_CeuxQuiComptent.jpg
CATEGORIES:Cinéma
END:VEVENT
END:VCALENDAR