BEGIN:VCALENDAR
VERSION:2.0
PRODID:-//wp-events-plugin.com//5.99912//EN
TZID:Europe/Paris
X-WR-TIMEZONE:Europe/Paris
BEGIN:VEVENT
UID:0-1405@murs-erigne.fr
DTSTART:20260623T190000Z
DTEND:20260623T220000Z
DTSTAMP:20260416T124042Z
URL:https://www.murs-erigne.fr/evenements/correspondances-soiree-projectio
 n-exposition/
SUMMARY:"Correspondances"
DESCRIPTION:\nUn voyage au cœur du vivant\, entre émotions\, engagement e
 t transmission.\n\n\n\n"Pendant 5 mois\, je suis partie en Asie à la renc
 ontre de cinq associations engagées dans la conservation des animaux sauv
 ages. Sur le terrain\, au cœur d’écosystèmes fragiles\, j’ai eu la 
 chance de participer à leurs actions\, d’observer leur travail quotidie
 n et de mieux comprendre les enjeux de la conservation.\n\n\n\nMais ce voy
 age ne m’appartenait pas uniquement.\n\n\n\nDans mon sac\, il y avait un
 e dizaine de lettres\, écrites par 400 enfants de Mûrs-Érigné et des c
 ommunes alentours. Avant mon départ\, des ateliers ont été organisés p
 our leur permettre de poser leurs questions aux protecteurs du vivant. Ces
  mots simples et sincères ont traversé les frontières avec moi.\n\n\n\n
 Tout au long du voyage\, ces lettres sont devenues un fil conducteur. Elle
 s ont nourri les échanges avec les associations\, ouvert des discussions 
 et créé des ponts entre des réalités pourtant éloignées. À travers 
 elles\, un lien s’est tissé entre les enfants et celles et ceux qui\, 
 à l’autre bout du monde\, œuvrent chaque jour pour protéger la biodiv
 ersité.\n\n\n\nDe ces échanges est né "Correspondances"\, un film docum
 entaire retraçant cette aventure\, avec pour objectif premier de ramener 
 des réponses aux enfants.\n\n\n\nLors de cette soirée\, l’exposition v
 ous invite à plonger dans cette aventure.\n\n\n\nÀ partir de 19h\, vous 
 pourrez découvrir les lettres des enfants\, une fresque du vivant créée
  en périscolaire\, ainsi que des photos retraçant les moments forts du v
 oyage. À 20h\, la projection de "Correspondances" aura lieu.\n\n\n\nEnfin
 \, des objets artisanaux rapportés sur place seront proposés. Leur achat
  permettra de soutenir directement les associations partenaires et de prol
 onger\, à votre manière\, les actions engagées.\n\n\n\nÀ travers cette
  exposition et le documentaire "Correspondances"\, cette soirée est une i
 nvitation à explorer ce qui nous relie : les liens entre les humains\, le
 s cultures et le vivant. J’espère que cette soirée vous permettra\, vo
 us aussi\, de voir le monde vivant autrement." Céleste Mazure.\n\n\n\n\nL
 'exposition\n\n\n\nLe documentaire\n\n
ATTACH;FMTTYPE=image/jpeg:https://www.murs-erigne.fr/app/uploads/2026/04/E
 VE_260623_Correspondances.jpg
CATEGORIES:Cinéma,Enfance,Exposition,Solidarité
END:VEVENT
END:VCALENDAR