BEGIN:VCALENDAR
VERSION:2.0
PRODID:-//wp-events-plugin.com//5.99912//EN
TZID:Europe/Paris
X-WR-TIMEZONE:Europe/Paris
BEGIN:VEVENT
UID:0-1388@murs-erigne.fr
DTSTART:20260422T203000Z
DTEND:20260422T203000Z
DTSTAMP:20260225T122939Z
URL:https://www.murs-erigne.fr/evenements/le-crime-du-3e-etage/
SUMMARY:Le Crime du 3e étage
DESCRIPTION:\nDe Rémi Bezançon | Par Rémi Bezançon\n\n\n\nAvec&nbsp
 \;Gilles Lellouche\,&nbsp\;Laetitia Casta\,&nbsp\;Guillaume Gallienne\n\n\
 n\nSynopsis\n\n\n\nColette\, professeure de cinéma spécialisée dans l
 ’œuvre de Hitchcock\, soupçonne son nouveau voisin d’en face d’avo
 ir tué sa femme. Réalité ou déformation professionnelle ? Son mari\
 , François\, écrivain de romans historico-policiers un peu désuets\, es
 t d’abord sceptique face à l’obsession de Colette pour ce prétendu c
 rime. Il se laisse cependant embarquer dans cette enquête rocambolesque\,
  et\, à mesure que les indices s’accumulent et que le mystère s’épa
 issit\, ce couple ordinaire se transforme en duo de détectives hors pair.
  Alors\, y a-t-il vraiment eu un crime au 3 e étage ?\n\n\n\n\nhttps://w
 ww.youtube.com/watch?v=nrjXeYFRkpE\n\n\n\n\nTarifs\n\n\n\nAdulte : plein 6
  €\, réduit 5 € (érimûrois\, adhérents AFR\, chercheurs d’empl
 oi\, étudiants)Enfant -14 ans : plein 5 €\, réduit 4 € (érimûrois\
 , adhérents AFR)Groupe à partir de 10 pers. (écoles\, collèges\, maiso
 ns de retraite…)&nbsp\;: 3.60 €\n\n\n\nE-Pass Jeunes accepté\n\n\n\n\
 nCinéma en partenariat avec l'association Familles Rurales\n\n
ATTACH;FMTTYPE=image/jpeg:https://www.murs-erigne.fr/app/uploads/2026/02/C
 OM_2026-04-22_IMA_LeCrimeDu3Etage.jpg
CATEGORIES:Cinéma
END:VEVENT
END:VCALENDAR