BEGIN:VCALENDAR
VERSION:2.0
PRODID:-//wp-events-plugin.com//5.99912//EN
TZID:Europe/Paris
X-WR-TIMEZONE:Europe/Paris
BEGIN:VEVENT
UID:0-1377@murs-erigne.fr
DTSTART;TZID=Europe/Paris:20260507T180000
DTEND;TZID=Europe/Paris:20260507T200000
DTSTAMP:20260422T083245Z
URL:https://www.murs-erigne.fr/evenements/les-echassiers-de-murs-erigne-2/
SUMMARY:Les échassiers de Mûrs-Érigné
DESCRIPTION:\nLa jeune héronnière des boucles de l’Aubance accueille de
  nombreuses espèces de hérons. Venez les identifier avec une animatrice 
 de la LPO Anjou et comprendre leur mode de vie.\n\n\n\nDans le cadre des&n
 bsp\;Rendez-vous nature 2026 et en partenariat avec la LPO Anjou.\n\n\n\nA
 nimations mises en place et co-financées par le Département\, dans le ca
 dre de ses actions de préservation et valorisation des milieux naturels d
 u Maine-et-Loire.\n\n\n\n\nGratuit - Réservation obligatoire auprès de l
 a LPO Anjou\n\n\n\nRDV : au parking du CTM (rue des Acacias)\n\n\n\nNombre
  de places disponibles : 20 personnes maximum\n\n\n\nDistance parcourue : 
 0 km (une petite pente est sur le chemin de l'observatoire)\n\n\n\nDurée 
 : 2 h\n\n\n\n\nRéservation en ligne\n\n\n\n\n
ATTACH;FMTTYPE=image/jpeg:https://www.murs-erigne.fr/app/uploads/2026/02/C
 OM_2026-05-07_IMA_RDVNature-EchassiersMursErigne-MiniatureWeb.jpg
CATEGORIES:Rendez-vous nature en Anjou
END:VEVENT
BEGIN:VTIMEZONE
TZID:Europe/Paris
X-LIC-LOCATION:Europe/Paris
BEGIN:DAYLIGHT
DTSTART:20260329T030000
TZOFFSETFROM:+0100
TZOFFSETTO:+0200
TZNAME:CEST
END:DAYLIGHT
END:VTIMEZONE
END:VCALENDAR