BEGIN:VCALENDAR
VERSION:2.0
PRODID:-//wp-events-plugin.com//5.99912//EN
TZID:Europe/Paris
X-WR-TIMEZONE:Europe/Paris
BEGIN:VEVENT
UID:0-1352@murs-erigne.fr
DTSTART:20260501T163000Z
DTEND:20260501T193000Z
DTSTAMP:20251218T091634Z
URL:https://www.murs-erigne.fr/evenements/marche-de-plein-air-249/
SUMMARY:Marché de plein air
DESCRIPTION:\nLe marché alimentaire\n\n\n\nVous pourrez y retrouver des fr
 uits et légumes\, du pain\, volailles et porc\, du miel\, du fromage\, de
 s rillettes\, des œufs… (liste non exhaustive). Tous les producteurs so
 nt locaux et vous proposent des produits de saison et de qualité.\n\n\n\n
 Le marché se déroule tous les mercredis de 9h à 12h30 et tous les vendr
 edis de 16h30 à 19h30 au parc du Jau.\n\n\n\n\nPlus d'informations sur la
  page dédiée au marché de plein air.\n\n
ATTACH;FMTTYPE=image/jpeg:https://www.murs-erigne.fr/app/uploads/2022/09/M
 archePleinAir.jpg
CATEGORIES:Marché
END:VEVENT
END:VCALENDAR